BEGIN:VCALENDAR
VERSION:2.0
PRODID:-//Evangelical Council for Abuse Prevention - ECPv6.15.17.1//NONSGML v1.0//EN
CALSCALE:GREGORIAN
METHOD:PUBLISH
X-ORIGINAL-URL:https://ecap.net
X-WR-CALDESC:Events for Evangelical Council for Abuse Prevention
REFRESH-INTERVAL;VALUE=DURATION:PT1H
X-Robots-Tag:noindex
X-PUBLISHED-TTL:PT1H
BEGIN:VTIMEZONE
TZID:America/New_York
BEGIN:DAYLIGHT
TZOFFSETFROM:-0500
TZOFFSETTO:-0400
TZNAME:EDT
DTSTART:20220313T070000
END:DAYLIGHT
BEGIN:STANDARD
TZOFFSETFROM:-0400
TZOFFSETTO:-0500
TZNAME:EST
DTSTART:20221106T060000
END:STANDARD
BEGIN:DAYLIGHT
TZOFFSETFROM:-0500
TZOFFSETTO:-0400
TZNAME:EDT
DTSTART:20230312T070000
END:DAYLIGHT
BEGIN:STANDARD
TZOFFSETFROM:-0400
TZOFFSETTO:-0500
TZNAME:EST
DTSTART:20231105T060000
END:STANDARD
BEGIN:DAYLIGHT
TZOFFSETFROM:-0500
TZOFFSETTO:-0400
TZNAME:EDT
DTSTART:20240310T070000
END:DAYLIGHT
BEGIN:STANDARD
TZOFFSETFROM:-0400
TZOFFSETTO:-0500
TZNAME:EST
DTSTART:20241103T060000
END:STANDARD
END:VTIMEZONE
BEGIN:VEVENT
DTSTART;TZID=America/New_York:20230613T200000
DTEND;TZID=America/New_York:20230613T213000
DTSTAMP:20260421T191153
CREATED:20230116T185938Z
LAST-MODIFIED:20230505T143601Z
UID:10253-1686686400-1686691800@ecap.net
SUMMARY:Plan to Protect® Orientation for Board Members & Trustees LIVE Webinar
DESCRIPTION:Board Members and Trustees of charities and not-for profits have ultimate oversight of\, and responsibility for\, all aspects of the organization. They are responsible to ensure policies are in place and as the governing body of the charity\, are accountable legally to the CRA and regulatory bodies. \nThis 90-minute webinar meets the requirements of insurance companies for orientation training for those that provide leadership and oversight to volunteers and staff entrusted with the care of children\, youth and vulnerable adults. \nWe have modified our Plan to Protect® Orientation training for Board Members and Trustees. This training will equip leaders to: \n– A Board Member’s/Trustee’s responsibility when it comes to safeguarding\n– Achieving a high standard of protection and safeguarding\n– Gain a heightened awareness of the prevalence of abuse and the categories and definitions of abuse\n– Respond appropriately to high-risk activities that could place the charity and the Board at risk \nAnd more…. \nCost:\nIndividual Registrations – $35 per person\nBundles (group of 5-10 attendees) – Purchase bundles of trainin \nDiscounts\nIf you have received this invitation from your church or organization leadership\, your registration may have been paid for already. If so\, we will confirm the payment and approve you for the course. \nDiscounts apply. Group rates & discounts also available. Bundle registrations can also be used for this training.\nNo refunds or credit will be granted if you do not show up for the training. \n***REGISTRATIONS RECEIVED WITHIN 24 HOURS OF THE START OF THIS COURSE MAY NOT BE PROCESSED IN TIME.***
URL:https://ecap.net/event/plan-to-protect-orientation-for-board-members-trustees-live-webinar-4/
LOCATION:Online\, United States
ATTACH;FMTTYPE=image/png:https://ecap.net/wp-content/uploads/2022/02/Screen-Shot-2022-04-25-at-4.32.21-PM.png
END:VEVENT
END:VCALENDAR