BEGIN:VCALENDAR
VERSION:2.0
PRODID:-//Evangelical Council for Abuse Prevention - ECPv6.15.17.1//NONSGML v1.0//EN
CALSCALE:GREGORIAN
METHOD:PUBLISH
X-WR-CALNAME:Evangelical Council for Abuse Prevention
X-ORIGINAL-URL:https://ecap.net
X-WR-CALDESC:Events for Evangelical Council for Abuse Prevention
REFRESH-INTERVAL;VALUE=DURATION:PT1H
X-Robots-Tag:noindex
X-PUBLISHED-TTL:PT1H
BEGIN:VTIMEZONE
TZID:America/New_York
BEGIN:DAYLIGHT
TZOFFSETFROM:-0500
TZOFFSETTO:-0400
TZNAME:EDT
DTSTART:20220313T070000
END:DAYLIGHT
BEGIN:STANDARD
TZOFFSETFROM:-0400
TZOFFSETTO:-0500
TZNAME:EST
DTSTART:20221106T060000
END:STANDARD
BEGIN:DAYLIGHT
TZOFFSETFROM:-0500
TZOFFSETTO:-0400
TZNAME:EDT
DTSTART:20230312T070000
END:DAYLIGHT
BEGIN:STANDARD
TZOFFSETFROM:-0400
TZOFFSETTO:-0500
TZNAME:EST
DTSTART:20231105T060000
END:STANDARD
BEGIN:DAYLIGHT
TZOFFSETFROM:-0500
TZOFFSETTO:-0400
TZNAME:EDT
DTSTART:20240310T070000
END:DAYLIGHT
BEGIN:STANDARD
TZOFFSETFROM:-0400
TZOFFSETTO:-0500
TZNAME:EST
DTSTART:20241103T060000
END:STANDARD
END:VTIMEZONE
BEGIN:VEVENT
DTSTART;TZID=America/New_York:20230516T100000
DTEND;TZID=America/New_York:20230516T160000
DTSTAMP:20260421T205904
CREATED:20230426T131545Z
LAST-MODIFIED:20230505T144140Z
UID:11125-1684231200-1684252800@ecap.net
SUMMARY:Plan to Protect Trauma-Informed Training
DESCRIPTION:Join Melodie and Scott for this full-day forum providing basic training on victim advocacy. \n\n\n\nAgenda (after each session there will be breakout networking discussion) \n\n\n\nSession One: Past and Present: A brief history of victim advocacy in North America; What do we mean by victim advocacy? \n\n\n\nSession Two: The role and responsibilities of a victim advocate \n\n\n\nSession Three: The do’s and don’ts of victim advocacy \n\n\n\nSession Four: The future and hope of victim advocacy within our churches\, charities\, and communities \n\n\n\nFull-Day Seminar and Training Guide: $100 \n\n\n\nThe sessions will be recorded for those who register and are unable to attend online.
URL:https://ecap.net/event/plan-to-protect-trauma-informed-training/
LOCATION:Online\, United States
ATTACH;FMTTYPE=image/png:https://ecap.net/wp-content/uploads/2022/02/Screen-Shot-2022-04-25-at-4.32.21-PM.png
END:VEVENT
END:VCALENDAR