BEGIN:VCALENDAR
VERSION:2.0
PRODID:-//Evangelical Council for Abuse Prevention - ECPv6.15.17.1//NONSGML v1.0//EN
CALSCALE:GREGORIAN
METHOD:PUBLISH
X-WR-CALNAME:Evangelical Council for Abuse Prevention
X-ORIGINAL-URL:https://ecap.net
X-WR-CALDESC:Events for Evangelical Council for Abuse Prevention
REFRESH-INTERVAL;VALUE=DURATION:PT1H
X-Robots-Tag:noindex
X-PUBLISHED-TTL:PT1H
BEGIN:VTIMEZONE
TZID:America/New_York
BEGIN:DAYLIGHT
TZOFFSETFROM:-0500
TZOFFSETTO:-0400
TZNAME:EDT
DTSTART:20220313T070000
END:DAYLIGHT
BEGIN:STANDARD
TZOFFSETFROM:-0400
TZOFFSETTO:-0500
TZNAME:EST
DTSTART:20221106T060000
END:STANDARD
BEGIN:DAYLIGHT
TZOFFSETFROM:-0500
TZOFFSETTO:-0400
TZNAME:EDT
DTSTART:20230312T070000
END:DAYLIGHT
BEGIN:STANDARD
TZOFFSETFROM:-0400
TZOFFSETTO:-0500
TZNAME:EST
DTSTART:20231105T060000
END:STANDARD
BEGIN:DAYLIGHT
TZOFFSETFROM:-0500
TZOFFSETTO:-0400
TZNAME:EDT
DTSTART:20240310T070000
END:DAYLIGHT
BEGIN:STANDARD
TZOFFSETFROM:-0400
TZOFFSETTO:-0500
TZNAME:EST
DTSTART:20241103T060000
END:STANDARD
END:VTIMEZONE
BEGIN:VEVENT
DTSTART;TZID=America/New_York:20230509T123000
DTEND;TZID=America/New_York:20230509T130000
DTSTAMP:20260421T190659
CREATED:20230116T184848Z
LAST-MODIFIED:20230505T144238Z
UID:10241-1683635400-1683637200@ecap.net
SUMMARY:Plan to Protect® 101
DESCRIPTION:Over\, 10\,000 clients have chosen Plan to Protect® as the standard of protection and abuse prevention they are striving to achieve. This webinar introduces you to the standard and covers the basics of Plan to Protect®. We will include an introduction to our company\, an overview of the insurance requirements\, an implementation strategy\, and a review of our membership levels\, resources\, services and training.\nThis is a complimentary webinar. Register to participate LIVE with Q&A time\, or to receive access to an instant replay.
URL:https://ecap.net/event/plan-to-protect-101-13/
LOCATION:Online\, United States
ATTACH;FMTTYPE=image/png:https://ecap.net/wp-content/uploads/2022/02/Screen-Shot-2022-04-25-at-4.32.21-PM.png
END:VEVENT
BEGIN:VEVENT
DTSTART;TZID=America/New_York:20230511T120000
DTEND;TZID=America/New_York:20230511T130000
DTSTAMP:20260421T190659
CREATED:20230116T185013Z
LAST-MODIFIED:20230505T144312Z
UID:10243-1683806400-1683810000@ecap.net
SUMMARY:Special Interest: Policy Audits
DESCRIPTION:During our Deeper Dive series of seminars in 2023\, we will be showcasing our new Plan to Protect® manual and best practices that we will be launching this year. Not only will the seminars provide you and your team with a deeper insight and knowledge of these policies and procedures\, but we are hosting them in honour of days set apart in recognition for the topics chosen. As you invest in greater understanding on these topics\, you will also be broadening your understanding of the needs of those that are hurting in our world.
URL:https://ecap.net/event/special-interest-policy-audits/
LOCATION:Online\, United States
ATTACH;FMTTYPE=image/png:https://ecap.net/wp-content/uploads/2022/02/Screen-Shot-2022-04-25-at-4.32.21-PM.png
END:VEVENT
BEGIN:VEVENT
DTSTART;TZID=America/New_York:20230516T100000
DTEND;TZID=America/New_York:20230516T160000
DTSTAMP:20260421T190659
CREATED:20230426T131545Z
LAST-MODIFIED:20230505T144140Z
UID:11125-1684231200-1684252800@ecap.net
SUMMARY:Plan to Protect Trauma-Informed Training
DESCRIPTION:Join Melodie and Scott for this full-day forum providing basic training on victim advocacy. \n\n\n\nAgenda (after each session there will be breakout networking discussion) \n\n\n\nSession One: Past and Present: A brief history of victim advocacy in North America; What do we mean by victim advocacy? \n\n\n\nSession Two: The role and responsibilities of a victim advocate \n\n\n\nSession Three: The do’s and don’ts of victim advocacy \n\n\n\nSession Four: The future and hope of victim advocacy within our churches\, charities\, and communities \n\n\n\nFull-Day Seminar and Training Guide: $100 \n\n\n\nThe sessions will be recorded for those who register and are unable to attend online.
URL:https://ecap.net/event/plan-to-protect-trauma-informed-training/
LOCATION:Online\, United States
ATTACH;FMTTYPE=image/png:https://ecap.net/wp-content/uploads/2022/02/Screen-Shot-2022-04-25-at-4.32.21-PM.png
END:VEVENT
BEGIN:VEVENT
DTSTART;TZID=America/New_York:20230517T100000
DTEND;TZID=America/New_York:20230517T160000
DTSTAMP:20260421T190659
CREATED:20230116T185128Z
LAST-MODIFIED:20230505T143929Z
UID:10245-1684317600-1684339200@ecap.net
SUMMARY:Forum: Why every organization needs a Trauma - Informed Victim Advocate
DESCRIPTION:How to demonstrate care and godly response to allegations and disclosure of abuse. \n  \nEarly Bird pricing up to April 30th at the price of $100 pp (no additional discounts) \nAfter the 30th it will be $129 pp (discounts apply)
URL:https://ecap.net/event/forum-why-every-organization-needs-a-trauma-informed-victim-advocate/
LOCATION:Online\, United States
ATTACH;FMTTYPE=image/png:https://ecap.net/wp-content/uploads/2022/02/Screen-Shot-2022-04-25-at-4.32.21-PM.png
END:VEVENT
BEGIN:VEVENT
DTSTART;TZID=America/New_York:20230525T200000
DTEND;TZID=America/New_York:20230525T213000
DTSTAMP:20260421T190659
CREATED:20230116T185329Z
LAST-MODIFIED:20230505T143649Z
UID:10247-1685044800-1685050200@ecap.net
SUMMARY:Plan to Protect® Refresher LIVE Webinar
DESCRIPTION:If you previously attended a Plan to Protect® Orientation training or are due for a Refresher training\, we are happy to offer our Plan to Protect® 1-hour Refresher Training via Live Webinar! \nThis webinar is great for individuals and groups who need to be refreshed in Plan to Protect® policies and procedures. \nE-certificates will be provided for attendees – group attendees will be provided with an e-certificate sent to the group facilitator for their records. \nCost:\nIndividual Registrations – $30 per person\nBundles (group of 5-10 attendees) – Purchase bundles of training to register your team at www.plantoprotectschool.com/pages/bundles\nGroup Rate (group of 20+ attendees) – Starting from $550 (contact onlinetraining@plantoprotect.com for more details) \n-Member and sub-license discounts apply \nLength: 1 hour \n***REGISTRATIONS RECEIVED WITHIN 24HRS BEFORE THE START OF THIS COURSE MAY NOT BE PROCESSED IN TIME.***
URL:https://ecap.net/event/plan-to-protect-refresher-live-webinar-12/
LOCATION:Online\, United States
ATTACH;FMTTYPE=image/png:https://ecap.net/wp-content/uploads/2022/02/Screen-Shot-2022-04-25-at-4.32.21-PM.png
END:VEVENT
BEGIN:VEVENT
DTSTART;TZID=America/New_York:20230527T130000
DTEND;TZID=America/New_York:20230527T153000
DTSTAMP:20260421T190659
CREATED:20230116T185532Z
LAST-MODIFIED:20230505T143630Z
UID:10249-1685192400-1685201400@ecap.net
SUMMARY:Plan to Protect® Orientation LIVE Webinar
DESCRIPTION:Struggling to attend on-site training? Prefer to do training with a live person rather than as an online course? Join us for this 2 hour orientation training covering awareness of abuse\, our responsibility\, definitions of abuse with potential recognition signals\, reporting and response\, and child and youth protection procedures. This training meets insurance company requirements. Designed for staff and volunteers working with children and youth. \n** This is also a great refresher for trainers. \nCost:\nIndividual Registrations – $35 per person\nBundles (group of 5-10 attendees) – Purchase bundles of training to register your team at www.plantoprotectschool.com/pages/bundles\nGroup Rate (group of 20+ attendees) – Starting from $600 (contact onlinetraining@plantoprotect.com for more details) \nIncludes a e-Certificate of completion. \nDiscounts \nIf you have received this invitation from your church or organization leadership\, your registration may have been paid for already. If so\, we will confirm the payment and approve you for the course. \nDiscounts apply. Group rates & discounts also available. Bundle registrations can also be used for this training. \nNo refunds or credit will be granted if you do not show up for the training. \n***REGISTRATIONS RECEIVED WITHIN 24 HOURS OF THE START OF THIS COURSE MAY NOT BE PROCESSED IN TIME.***
URL:https://ecap.net/event/plan-to-protect-orientation-live-webinar-14/
LOCATION:Online\, United States
ATTACH;FMTTYPE=image/png:https://ecap.net/wp-content/uploads/2022/02/Screen-Shot-2022-04-25-at-4.32.21-PM.png
END:VEVENT
END:VCALENDAR