BEGIN:VCALENDAR
VERSION:2.0
PRODID:-//Evangelical Council for Abuse Prevention - ECPv6.15.17.1//NONSGML v1.0//EN
CALSCALE:GREGORIAN
METHOD:PUBLISH
X-ORIGINAL-URL:https://ecap.net
X-WR-CALDESC:Events for Evangelical Council for Abuse Prevention
REFRESH-INTERVAL;VALUE=DURATION:PT1H
X-Robots-Tag:noindex
X-PUBLISHED-TTL:PT1H
BEGIN:VTIMEZONE
TZID:America/New_York
BEGIN:DAYLIGHT
TZOFFSETFROM:-0500
TZOFFSETTO:-0400
TZNAME:EDT
DTSTART:20240310T070000
END:DAYLIGHT
BEGIN:STANDARD
TZOFFSETFROM:-0400
TZOFFSETTO:-0500
TZNAME:EST
DTSTART:20241103T060000
END:STANDARD
BEGIN:DAYLIGHT
TZOFFSETFROM:-0500
TZOFFSETTO:-0400
TZNAME:EDT
DTSTART:20250309T070000
END:DAYLIGHT
BEGIN:STANDARD
TZOFFSETFROM:-0400
TZOFFSETTO:-0500
TZNAME:EST
DTSTART:20251102T060000
END:STANDARD
BEGIN:DAYLIGHT
TZOFFSETFROM:-0500
TZOFFSETTO:-0400
TZNAME:EDT
DTSTART:20260308T070000
END:DAYLIGHT
BEGIN:STANDARD
TZOFFSETFROM:-0400
TZOFFSETTO:-0500
TZNAME:EST
DTSTART:20261101T060000
END:STANDARD
END:VTIMEZONE
BEGIN:VEVENT
DTSTART;TZID=America/New_York:20250307T113000
DTEND;TZID=America/New_York:20250307T133000
DTSTAMP:20260421T054631
CREATED:20250116T143000Z
LAST-MODIFIED:20250325T134434Z
UID:14454-1741347000-1741354200@ecap.net
SUMMARY:ECAP ACCREDITATION PREVIEW
DESCRIPTION:FREE event in Grand Rapids\, MI! \n\n\n\nChild Protection and Abuse Prevention: Learn the basics of child protection measures for your child/youth serving ministry. From governance\, screening\, training\, operations\, and response – your ministry is on the leading edge of protecting the vulnerable. How can you take reasonable measures to keep kids safe and know how to respond if/when abuse is reported? \n\n\n\nWe will share insights for your ministry that have helped develop and implement at other churches. Tap into the resources you need to create a safe place for kids to hear the gospel and grow in discipleship. Explore how ECAP membership and accreditation can help you and your ministry. \n\n\n\n*Lunch is provided. \n\n\n\n\n\n \n\n\n\nPresenters:  \n\n\n\n\n\n\n\n\n\nJeff Dalrymple – SBC Director of Abuse Prevention & ResponseJeff is an organizational leader whose leadership experience includes roles in public safety\, higher education\, non-governmental organizations\, and parachurch ministry. Jeff served as a vice president at Southern Seminary in Louisville from 2008-2016 and is the owner of Lumino Global Consulting and Coaching. In addition to implementing child protection programs at several ministries\, his experience includes team building\, development/fundraising\, hospitality\, international relations\, strategic planning\, and revitalization. Jeff enjoys reading\, exploring\, and spending time with his wife Kristil and kids\, JJ\, Kassie\, Katherine\, and Kylie. \n\n\n\n 
URL:https://ecap.net/event/ecap-accreditation-preview-2/
LOCATION:Trinity Baptist Church (MI)\, 2050 Aberdeen St NE\, Grand Rapids\, Michigan\, 49505
CATEGORIES:ECAP Events
ATTACH;FMTTYPE=image/png:https://ecap.net/wp-content/uploads/2024/01/Grand-Rapids.png
END:VEVENT
END:VCALENDAR